BEGIN:VCALENDAR
VERSION:2.0
PRODID:-//Squarespace Inc/Squarespace 6//v6//EN
BEGIN:VEVENT
UID:578428c22994ca687a58b98a@squarespace.com
DTSTAMP:20160711T232845Z
DTSTART:20160815T233000Z
DTEND:20160816T123000Z
SUMMARY:Glass of wine & tapas for 2 @ The Graham
END:VEVENT
END:VCALENDAR
