BEGIN:VCALENDAR
VERSION:2.0
PRODID:-//Squarespace Inc/Squarespace 6//v6//EN
BEGIN:VEVENT
UID:579ea26a15d5dbc7b6fd8b23@squarespace.com
DTSTAMP:20160801T011838Z
DTSTART:20160731T223000Z
DTEND:20160801T113000Z
SUMMARY:Breakfast for Two @ Seven:am
END:VEVENT
END:VCALENDAR
