BEGIN:VCALENDAR
VERSION:2.0
PRODID:-//Squarespace Inc/Squarespace 6//v6//EN
BEGIN:VEVENT
UID:579fc623d2b85793703cf9b4@squarespace.com
DTSTAMP:20160801T220348Z
DTSTART:20160801T220000Z
DTEND:20160802T113000Z
SUMMARY:Alassis Scented Candle from Thyme for Living
END:VEVENT
END:VCALENDAR
