BEGIN:VCALENDAR
VERSION:2.0
PRODID:-//Squarespace Inc/Squarespace 6//v6//EN
BEGIN:VEVENT
UID:57b23bf22994cab738520fa5@squarespace.com
DTSTAMP:20160815T220624Z
DTSTART:20160821T233000Z
DTEND:20160822T123000Z
SUMMARY:Lunch for 2 @ Cosmos
GEO:-37.842164;144.939974
LOCATION:Cosmos Cafe\, 140 Rouse Street\, Port Melbourne\, VIC\, 3207\, Aus
 tralia
END:VEVENT
END:VCALENDAR
