BEGIN:VCALENDAR
VERSION:2.0
PRODID:-//Squarespace Inc/Squarespace 6//v6//EN
BEGIN:VEVENT
UID:57b23e14cd0f68c5f776ab41@squarespace.com
DTSTAMP:20160815T221601Z
DTSTART:20160826T223000Z
DTEND:20160827T113000Z
SUMMARY:Wash & Blowdry @ True Colours
GEO:-37.834995;144.945321
LOCATION:True Colours\, 379 Bay Street\, Port Melbourne\, VIC\, 3207\, Aust
 ralia
END:VEVENT
END:VCALENDAR
