BEGIN:VCALENDAR
VERSION:2.0
PRODID:-//Squarespace Inc/Squarespace 6//v6//EN
BEGIN:VEVENT
UID:578425b103596e3d602001ec@squarespace.com
DTSTAMP:20160711T231021Z
DTSTART:20160802T233000Z
DTEND:20160803T123000Z
SUMMARY:Derma Nourish Facial @ Feeling Smooth
END:VEVENT
END:VCALENDAR
