BEGIN:VCALENDAR
VERSION:2.0
PRODID:-//Squarespace Inc/Squarespace 6//v6//EN
BEGIN:VEVENT
UID:57a3df5a8419c2874b82914e@squarespace.com
DTSTAMP:20160805T003815Z
DTSTART:20160805T010000Z
DTEND:20160805T130000Z
SUMMARY:56 pc Cutlery Set from Pod Homewares
END:VEVENT
END:VCALENDAR
