BEGIN:VCALENDAR
VERSION:2.0
PRODID:-//Squarespace Inc/Squarespace 6//v6//EN
BEGIN:VEVENT
UID:57a5052b8419c2c79954a172@squarespace.com
DTSTAMP:20160805T213711Z
DTSTART:20160805T213000Z
DTEND:20160806T103000Z
SUMMARY:Luxurious Blowdry from Charlie Blowdry
END:VEVENT
END:VCALENDAR
