BEGIN:VCALENDAR
VERSION:2.0
PRODID:-//Squarespace Inc/Squarespace 6//v6//EN
BEGIN:VEVENT
UID:578427e6ff7c50fb4380cd3f@squarespace.com
DTSTAMP:20160711T232041Z
DTSTART:20160807T233000Z
DTEND:20160808T123000Z
SUMMARY:Afternoon Tea for 2 @ Noîsette
END:VEVENT
END:VCALENDAR
