BEGIN:VCALENDAR
VERSION:2.0
PRODID:-//Squarespace Inc/Squarespace 6//v6//EN
BEGIN:VEVENT
UID:57c0ac0bbe6594a90947337f@squarespace.com
DTSTAMP:20160826T214359Z
DTSTART:20161014T070000Z
DTEND:20161014T090000Z
SUMMARY:Albert Park College Art Show
END:VEVENT
END:VCALENDAR
