BEGIN:VCALENDAR
VERSION:2.0
PRODID:-//Squarespace Inc/Squarespace 6//v6//EN
BEGIN:VEVENT
UID:57a5028b29687fc5a26b13a6@squarespace.com
DTSTAMP:20160805T212042Z
DTSTART:20161015T010000Z
DTEND:20161015T030000Z
SUMMARY:SKINC Workshops - Native Bees
GEO:-37.8311;144.94383
LOCATION:SKINC indigenous nursery co-op\, 525 Williamstown Road\, Port Melb
 ourne\, VIC\, 3207\, Australia
END:VEVENT
END:VCALENDAR
