BEGIN:VCALENDAR
VERSION:2.0
PRODID:-//Squarespace Inc/Squarespace 6//v6//EN
BEGIN:VEVENT
UID:57c0a9cd579fb3d864058075@squarespace.com
DTSTAMP:20160826T204838Z
DTSTART:20161022T000000Z
DTEND:20161022T060000Z
SUMMARY:Port's Paw Parade
END:VEVENT
END:VCALENDAR
