BEGIN:VCALENDAR
VERSION:2.0
PRODID:-//Squarespace Inc/Squarespace 6//v6//EN
BEGIN:VEVENT
UID:5808082acd0f687a035c78ab@squarespace.com
DTSTAMP:20161020T000821Z
DTSTART:20161117T230000Z
DTEND:20161120T030000Z
SUMMARY:Beach Netball Port Melbourne
END:VEVENT
END:VCALENDAR
