BEGIN:VCALENDAR
VERSION:2.0
PRODID:-//Squarespace Inc/Squarespace 6//v6//EN
BEGIN:VEVENT
UID:57c0ab4346c3c49776ecfb02@squarespace.com
DTSTAMP:20161130T022005Z
DTSTART:20161202T060000Z
DTEND:20161202T100000Z
SUMMARY:Christmas Concert on Bay!
END:VEVENT
END:VCALENDAR
