BEGIN:VCALENDAR
VERSION:2.0
PRODID:-//Squarespace Inc/Squarespace 6//v6//EN
BEGIN:VEVENT
UID:57b0f23603596ed24fb8772f@squarespace.com
DTSTAMP:20160814T223703Z
DTSTART:20160714T230000Z
DTEND:20160915T000000Z
SUMMARY:Homies: about us
END:VEVENT
END:VCALENDAR
