BEGIN:VCALENDAR
VERSION:2.0
PRODID:-//Squarespace Inc/Squarespace 6//v6//EN
BEGIN:VEVENT
UID:57a5035aff7c50b56190122b@squarespace.com
DTSTAMP:20160805T212411Z
DTSTART:20160813T061500Z
DTEND:20160813T100000Z
SUMMARY:SHIP EVENTS - Dawn of the Planet of the Apes
GEO:-37.837944;144.941574
LOCATION:154 Liardet Street\, Port Melbourne\, VIC\, 3207\, Australia
END:VEVENT
END:VCALENDAR
