BEGIN:VCALENDAR
VERSION:2.0
PRODID:-//Squarespace Inc/Squarespace 6//v6//EN
BEGIN:VEVENT
UID:57b0f15cebbd1abcdeca6ea1@squarespace.com
DTSTAMP:20160814T223521Z
DTSTART:20160531T230000Z
DTEND:20160831T000000Z
SUMMARY:Women at War - Exhibition
END:VEVENT
END:VCALENDAR
