BEGIN:VCALENDAR
VERSION:2.0
PRODID:-//Squarespace Inc/Squarespace 6//v6//EN
BEGIN:VEVENT
UID:57a4f9ff2994ca6cbb8b1b14@squarespace.com
DTSTAMP:20160805T211643Z
DTSTART:20160820T010000Z
DTEND:20160820T030000Z
SUMMARY:SKINC Workshops - Book Binding
GEO:-37.8311;144.94383
LOCATION:SKINC indigenous nursery co-op\, 525 Williamstown Road\, Port Melb
 ourne\, VIC\, 3207\, Australia
END:VEVENT
END:VCALENDAR
