BEGIN:VCALENDAR
VERSION:2.0
PRODID:-//Squarespace Inc/Squarespace 6//v6//EN
BEGIN:VEVENT
UID:57b0ec9203596ed24fb8482a@squarespace.com
DTSTAMP:20160814T222235Z
DTSTART:20160827T000000Z
DTEND:20160827T060000Z
SUMMARY:Oral History introductory workshop
END:VEVENT
END:VCALENDAR
