BEGIN:VCALENDAR
VERSION:2.0
PRODID:-//Squarespace Inc/Squarespace 6//v6//EN
BEGIN:VEVENT
UID:57a512828419c2c7995525a6@squarespace.com
DTSTAMP:20160805T224155Z
DTSTART:20160827T020000Z
DTEND:20160827T043000Z
SUMMARY:Walk Local Taste Global - Session 1
GEO:-37.840769;144.93288
LOCATION:101 Beach St\, Port Melbourne\, VIC\, 3207\, Australia
END:VEVENT
END:VCALENDAR
