BEGIN:VCALENDAR
VERSION:2.0
PRODID:-//Squarespace Inc/Squarespace 6//v6//EN
BEGIN:VEVENT
UID:57a514a06b8f5b05fd5dcc56@squarespace.com
DTSTAMP:20160805T231125Z
DTSTART:20160827T023000Z
DTEND:20160827T050000Z
SUMMARY:Walk Local Taste Global - Session 2
GEO:-37.840682;144.933065
LOCATION:101 Beach Street\, Port Melbourne\, VIC\, 3207\, Australia
END:VEVENT
END:VCALENDAR
