BEGIN:VCALENDAR
VERSION:2.0
PRODID:-//Squarespace Inc/Squarespace 6//v6//EN
BEGIN:VEVENT
UID:57b0f2a720099e871dd7137f@squarespace.com
DTSTAMP:20160814T223847Z
DTSTART:20160829T230000Z
DTEND:20160916T000000Z
SUMMARY:20 minute city\, 24/7: then and now
END:VEVENT
END:VCALENDAR
