BEGIN:VCALENDAR
VERSION:2.0
PRODID:-//Squarespace Inc/Squarespace 6//v6//EN
BEGIN:VEVENT
UID:57b4e8695016e111f8207f66@squarespace.com
DTSTAMP:20160817T224821Z
DTSTART:20160831T080000Z
DTEND:20160831T093000Z
SUMMARY:Annual General Meeting - Port Melbourne Business Association
GEO:-37.842019;144.938845
LOCATION:The Exchange Hotel\, 39 Bay Street\, Port Melbourne\, VIC\, 3207\, 
 Australia
END:VEVENT
END:VCALENDAR
