BEGIN:VCALENDAR
VERSION:2.0
PRODID:-//Squarespace Inc/Squarespace 6//v6//EN
BEGIN:VEVENT
UID:57a500cdff7c50b5618ff9e3@squarespace.com
DTSTAMP:20160805T212440Z
DTSTART:20160901T020000Z
DTEND:20160901T040000Z
SUMMARY:SKINC Workshops - Botany of the Sandbelt
GEO:-37.8311;144.94383
LOCATION:SKINC indigenous nursery co-op\, 525 Williamstown Road\, Port Melb
 ourne\, VIC\, 3207\, Australia
END:VEVENT
END:VCALENDAR
