BEGIN:VCALENDAR
VERSION:2.0
PRODID:-//Squarespace Inc/Squarespace 6//v6//EN
BEGIN:VEVENT
UID:57c0a88d414fb55e5538290e@squarespace.com
DTSTAMP:20160826T204233Z
DTSTART:20160912T083000Z
DTEND:20160912T120000Z
SUMMARY:Best of Port Awards Evening
GEO:-37.842844;144.938095
LOCATION:Pier Hotel\, 1 bay st\, Port Melbourne VIC 3207\, Australia
END:VEVENT
END:VCALENDAR
