BEGIN:VCALENDAR
VERSION:2.0
PRODID:-//Squarespace Inc/Squarespace 6//v6//EN
BEGIN:VEVENT
UID:57b0f01f3e00be9be5eef95f@squarespace.com
DTSTAMP:20160814T223146Z
DTSTART:20160913T083000Z
DTEND:20160913T100000Z
SUMMARY:Harder than Football - Talk
END:VEVENT
END:VCALENDAR
