BEGIN:VCALENDAR
VERSION:2.0
PRODID:-//Squarespace Inc/Squarespace 6//v6//EN
BEGIN:VEVENT
UID:57a4fb4be6f2e1f140ce6eea@squarespace.com
DTSTAMP:20160805T211739Z
DTSTART:20160917T020000Z
DTEND:20160917T033000Z
SUMMARY:SKINC Workshops - Mini Ecosystems
GEO:-37.8311;144.94383
LOCATION:SKINC indigenous nursery co-op\, 525 Williamstown Road\, Port Melb
 ourne\, VIC\, 3207\, Australia
END:VEVENT
END:VCALENDAR
