BEGIN:VCALENDAR
VERSION:2.0
PRODID:-//Squarespace Inc/Squarespace 6//v6//EN
BEGIN:VEVENT
UID:57a4fc4bebbd1acee612a749@squarespace.com
DTSTAMP:20160805T211745Z
DTSTART:20160925T020000Z
DTEND:20160925T043000Z
SUMMARY:SKINC Workshops - Introduction to Edible Forest Garden Design
GEO:-37.8311;144.94383
LOCATION:SKINC indigenous nursery co-op\, 525 Williamstown Road\, Port Melb
 ourne\, VIC\, 3207\, Australia
END:VEVENT
END:VCALENDAR
