BEGIN:VCALENDAR
VERSION:2.0
PRODID:-//Squarespace Inc/Squarespace 6//v6//EN
BEGIN:VEVENT
UID:57b0ef789de4bb3199d14d6b@squarespace.com
DTSTAMP:20160814T222629Z
DTSTART:20160903T000000Z
DTEND:20160903T030000Z
SUMMARY:Oral History advanced workshop
END:VEVENT
END:VCALENDAR
