BEGIN:VCALENDAR
VERSION:2.0
PRODID:-//Squarespace Inc/Squarespace 6//v6//EN
BEGIN:VEVENT
UID:589812f9b8a79b705547a23c@squarespace.com
DTSTAMP:20170206T061819Z
DTSTART:20170213T071500Z
DTEND:20170213T081500Z
SUMMARY:YOGA Relaxation (multiple events)
END:VEVENT
END:VCALENDAR
