BEGIN:VCALENDAR
VERSION:2.0
PRODID:-//Squarespace Inc/Squarespace 6//v6//EN
BEGIN:VEVENT
UID:58937b7429687fe15fe0944e@squarespace.com
DTSTAMP:20170202T183704Z
DTSTART:20170216T073000Z
DTEND:20170216T093000Z
SUMMARY:Free Film Night About Our BackYard
END:VEVENT
END:VCALENDAR
