BEGIN:VCALENDAR
VERSION:2.0
PRODID:-//Squarespace Inc/Squarespace 6//v6//EN
BEGIN:VEVENT
UID:58937c5b2e69cfd3755e1eb7@squarespace.com
DTSTAMP:20170322T040501Z
DTSTART:20170328T230000Z
DTEND:20170531T013000Z
SUMMARY:Port Melbourne Town Hall History Tour (Multiple Events!!)
END:VEVENT
END:VCALENDAR
