BEGIN:VCALENDAR
VERSION:2.0
PRODID:-//Squarespace Inc/Squarespace 6//v6//EN
BEGIN:VEVENT
UID:58c9ab716a49632c0cffcae1@squarespace.com
DTSTAMP:20170315T210230Z
DTSTART:20170318T030000Z
DTEND:20170318T040000Z
SUMMARY:Boomerang Bags Launch
GEO:-37.839282;144.94348
LOCATION:Bubup Womindjeka Family and Childrens Centre\, Liardet Street\, Po
 rt Melbourne\, VIC\, 3207\, Australia
END:VEVENT
END:VCALENDAR
