BEGIN:VCALENDAR
VERSION:2.0
PRODID:-//Squarespace Inc/Squarespace 6//v6//EN
BEGIN:VEVENT
UID:58982d374402432d76920f07@squarespace.com
DTSTAMP:20170206T080613Z
DTSTART:20170302T230000Z
DTEND:20170303T000000Z
SUMMARY:TAI CHI In the Park (multiple events)
END:VEVENT
END:VCALENDAR
