BEGIN:VCALENDAR
VERSION:2.0
PRODID:-//Squarespace Inc/Squarespace 6//v6//EN
BEGIN:VEVENT
UID:58d85b1c9f7456928cd37441@squarespace.com
DTSTAMP:20170327T040215Z
DTSTART:20170330T073000Z
DTEND:20170330T100000Z
SUMMARY:Meetup Port Melbourne - Brisket and Beer Night @ Corte
GEO:40.720756;-74.000761
LOCATION:Corte\, 115 Bay Street\, Port Melbourne 3207
END:VEVENT
END:VCALENDAR
