BEGIN:VCALENDAR
VERSION:2.0
PRODID:-//Squarespace Inc/Squarespace 6//v6//EN
BEGIN:VEVENT
UID:58d1f2196b8f5bdf9d925f48@squarespace.com
DTSTAMP:20170322T062750Z
DTSTART:20170330T230000Z
DTEND:20170331T003000Z
SUMMARY:Invest In You! (Weekly)
GEO:-37.839902;144.94145
LOCATION:Red Star Cafe\, 160 Bay Street\, Port Melbourne\, Australia
END:VEVENT
END:VCALENDAR
