BEGIN:VCALENDAR
VERSION:2.0
PRODID:-//Squarespace Inc/Squarespace 6//v6//EN
BEGIN:VEVENT
UID:58c9afbbbebafb5b8b49826e@squarespace.com
DTSTAMP:20170315T212332Z
DTSTART:20170424T083000Z
DTEND:20170515T093000Z
SUMMARY:Free 'Come and Try' Mat Pilates Sandridge Community Centre and Trug
 o Club
GEO:-37.838806;144.944953
LOCATION:Sandridge Community Centre and Trugo Club
END:VEVENT
END:VCALENDAR
