BEGIN:VCALENDAR
VERSION:2.0
PRODID:-//Squarespace Inc/Squarespace 6//v6//EN
BEGIN:VEVENT
UID:58c9b0e9f5e23111fb564781@squarespace.com
DTSTAMP:20170315T213059Z
DTSTART:20170412T233000Z
DTEND:20170429T023000Z
SUMMARY:Rochelle's Ride - part of the National Trust's Heritage Festival
GEO:-37.84158;144.935809
LOCATION:88 Beach Street\, Port Melbourne
END:VEVENT
END:VCALENDAR
