BEGIN:VCALENDAR
VERSION:2.0
PRODID:-//Squarespace Inc/Squarespace 6//v6//EN
BEGIN:VEVENT
UID:58c9abfd20099e4732213206@squarespace.com
DTSTAMP:20170315T211436Z
DTSTART:20170430T040000Z
DTEND:20170430T060000Z
SUMMARY:Picnic Day at Garden City Reserve
GEO:-37.836413;144.92982
LOCATION:Garden City Reserve
END:VEVENT
END:VCALENDAR
