BEGIN:VCALENDAR
VERSION:2.0
PRODID:-//Squarespace Inc/Squarespace 6//v6//EN
BEGIN:VEVENT
UID:58c9ad2ae6f2e1bd7e4fd0b7@squarespace.com
DTSTAMP:20170516T025530Z
DTSTART:20170409T010000Z
DTEND:20180409T070000Z
SUMMARY:Piers Festival
GEO:-37.839888;144.928541
LOCATION:2 pier st\, Port Melbourne\, VIC\, 3207\, Australia
END:VEVENT
END:VCALENDAR
