BEGIN:VCALENDAR
VERSION:2.0
PRODID:-//Squarespace Inc/Squarespace 6//v6//EN
BEGIN:VEVENT
UID:58c9b2b386e6c07b2ffe60b5@squarespace.com
DTSTAMP:20170315T213659Z
DTSTART:20170430T233000Z
DTEND:20170501T030000Z
SUMMARY:Men's Health Awareness Forum
GEO:-37.834347;144.956705
LOCATION:South Port Uniting Church\, 317-329 Dorcas Street\, South Melbourn
 e\, VIC\, 3205\, Australia
END:VEVENT
END:VCALENDAR
