BEGIN:VCALENDAR
VERSION:2.0
PRODID:-//Squarespace Inc/Squarespace 6//v6//EN
BEGIN:VEVENT
UID:58d85d8f893fc051959f2df4@squarespace.com
DTSTAMP:20170327T040130Z
DTSTART:20170507T070000Z
DTEND:20170507T090000Z
SUMMARY:Meetup Port Melbourne - Sunday Afternoon @ The Pier
GEO:40.720756;-74.000761
LOCATION:The Pier\, 1 Bay Street\, Port Melbourne 3207
END:VEVENT
END:VCALENDAR
